BEGIN:VCALENDAR
VERSION:2.0
PRODID:-//Tukios.com/
BEGIN:VEVENT
UID:393d0e06-8c3f-4496-b0e6-cdc4cb1adf00@www.maguirememorial.com
DTSTAMP:20260420T195910Z
DTSTART:20260423T190000Z
DTEND:20260423T230000Z
SUMMARY:Visitation
DESCRIPTION:
URL:https://www.maguirememorial.com/obituaries/lynda-winters
LOCATION:Maguire Memorial Home     
GEO:0;0
END:VEVENT
END:VCALENDAR